BEGIN:VCALENDAR
VERSION:2.0
PRODID:-//Saunarinki - Saunatapahtumat - ECPv6.15.18//NONSGML v1.0//EN
CALSCALE:GREGORIAN
METHOD:PUBLISH
X-ORIGINAL-URL:https://saunarinki.fi
X-WR-CALDESC:Tapahtumat Saunarinki - Saunatapahtumat
REFRESH-INTERVAL;VALUE=DURATION:PT1H
X-Robots-Tag:noindex
X-PUBLISHED-TTL:PT1H
BEGIN:VTIMEZONE
TZID:Europe/Helsinki
BEGIN:DAYLIGHT
TZOFFSETFROM:+0200
TZOFFSETTO:+0300
TZNAME:EEST
DTSTART:20230326T010000
END:DAYLIGHT
BEGIN:STANDARD
TZOFFSETFROM:+0300
TZOFFSETTO:+0200
TZNAME:EET
DTSTART:20231029T010000
END:STANDARD
BEGIN:DAYLIGHT
TZOFFSETFROM:+0200
TZOFFSETTO:+0300
TZNAME:EEST
DTSTART:20240331T010000
END:DAYLIGHT
BEGIN:STANDARD
TZOFFSETFROM:+0300
TZOFFSETTO:+0200
TZNAME:EET
DTSTART:20241027T010000
END:STANDARD
BEGIN:DAYLIGHT
TZOFFSETFROM:+0200
TZOFFSETTO:+0300
TZNAME:EEST
DTSTART:20250330T010000
END:DAYLIGHT
BEGIN:STANDARD
TZOFFSETFROM:+0300
TZOFFSETTO:+0200
TZNAME:EET
DTSTART:20251026T010000
END:STANDARD
END:VTIMEZONE
BEGIN:VEVENT
DTSTART;TZID=Europe/Helsinki:20240817T140000
DTEND;TZID=Europe/Helsinki:20240817T200000
DTSTAMP:20260421T132055
CREATED:20240724T093705Z
LAST-MODIFIED:20240724T095212Z
UID:987-1723903200-1723924800@saunarinki.fi
SUMMARY:Savonlinnan Saunafestivaali
DESCRIPTION:Tervetuloa ensimmäistä kertaa järjestettävälle Savonlinnan saunafestivaalille kaupungin ydinkeskustaan!\n\nTulemme juhlistamaan suomalaista saunaa Riihisaaren hienolla museosaarella\, Olavinlinnan naapurissa\, elokuun kolmantena viikonloppuna 17.8.2024.\n\nFestivaalin ohjelmaan kuuluu saunomista monenlaisissa mobiilisaunoissa\, näkökulmia nykysuomalaiseen saunakulttuuriin\, saunatuotteita sekä muuta viihdyttävää oheisohjelmaa. Festivaaliaikataulu tarkentuu myöhemmin.\n\nFestivaalille saapuu kymmenkunta erilaista saunaa: tulette kokemaan löylyt ainakin peräkärryssä\, trailerissa ja teltassa. Saunomme uimapuvuissa. Festivaalialueella on monta uimapaikkaa\, josta voi pulahtaa viilentymään Saimaan virkistävään veteen.\nSaunojille on varattu hotellihuoneita festivaalin lähellä sijaitsevasta kesähotelli Tottista varaustunnuksella BSAUNAFESTIVAALI ajalle 16.–18.7. Varaukset suoraan hotellista puh. 010 764 2000 tai sales.suur-savo@sok.fi.\nHotellivarauksen voi tehdä myös www.sokoshotels.fi nettisivujen kautta varaustunnuksella BSAUNAFESTIVAALI perjantaihin 9. elokuuta mennessä.\n\nMitä: Loistavia saunoja ja muuta saunaohjelmaa kansallismaisemassaMissä: Riihisaaren museolla\, Savonlinnassa.Milloin: 17.8. klo 14-20Hinta: 20/15€(seuran jäsenet)\n\nLipunmyynti paikan päällä.\nTapahtuman järjestää paikallinen Riihisaaren saunaseura ry. Tervetuloa mukaan!
URL:https://saunarinki.fi/tapahtuma/savonlinnan-saunafestivaali/
LOCATION:Riihisaaren museosaari\, Riihisaari\, Savonlinna\, Itä-Savo\, 57130\, Finland
CATEGORIES:Saunatapahtumat
ORGANIZER;CN="Riihisaaren Saunaseura":MAILTO:riihisaarensaunaseura@gmail.com
END:VEVENT
END:VCALENDAR