BEGIN:VCALENDAR
VERSION:2.0
PRODID:-//Saunarinki - Saunatapahtumat - ECPv6.15.18//NONSGML v1.0//EN
CALSCALE:GREGORIAN
METHOD:PUBLISH
X-ORIGINAL-URL:https://saunarinki.fi
X-WR-CALDESC:Tapahtumat Saunarinki - Saunatapahtumat
REFRESH-INTERVAL;VALUE=DURATION:PT1H
X-Robots-Tag:noindex
X-PUBLISHED-TTL:PT1H
BEGIN:VTIMEZONE
TZID:Europe/Helsinki
BEGIN:DAYLIGHT
TZOFFSETFROM:+0200
TZOFFSETTO:+0300
TZNAME:EEST
DTSTART:20250330T010000
END:DAYLIGHT
BEGIN:STANDARD
TZOFFSETFROM:+0300
TZOFFSETTO:+0200
TZNAME:EET
DTSTART:20251026T010000
END:STANDARD
BEGIN:DAYLIGHT
TZOFFSETFROM:+0200
TZOFFSETTO:+0300
TZNAME:EEST
DTSTART:20260329T010000
END:DAYLIGHT
BEGIN:STANDARD
TZOFFSETFROM:+0300
TZOFFSETTO:+0200
TZNAME:EET
DTSTART:20261025T010000
END:STANDARD
BEGIN:DAYLIGHT
TZOFFSETFROM:+0200
TZOFFSETTO:+0300
TZNAME:EEST
DTSTART:20270328T010000
END:DAYLIGHT
BEGIN:STANDARD
TZOFFSETFROM:+0300
TZOFFSETTO:+0200
TZNAME:EET
DTSTART:20271031T010000
END:STANDARD
END:VTIMEZONE
BEGIN:VEVENT
DTSTART;TZID=Europe/Helsinki:20260724T080000
DTEND;TZID=Europe/Helsinki:20260725T170000
DTSTAMP:20260420T082050
CREATED:20260203T062904Z
LAST-MODIFIED:20260203T062904Z
UID:1343-1784880000-1784998800@saunarinki.fi
SUMMARY:Kasalan Saunafest Merikarvia
DESCRIPTION:Tapahtumassa siirrettäviä saunoja\, musiikkia\,ravintolapalvelut sekä iloista meininkiä. Karavaanareille rajoitetusti matkaparkki paikkoja. 
URL:https://saunarinki.fi/tapahtuma/kasalan-saunafest-merikarvia/
END:VEVENT
END:VCALENDAR