BEGIN:VCALENDAR
VERSION:2.0
PRODID:-//Saunarinki - Saunatapahtumat - ECPv6.15.18//NONSGML v1.0//EN
CALSCALE:GREGORIAN
METHOD:PUBLISH
X-ORIGINAL-URL:https://saunarinki.fi
X-WR-CALDESC:Tapahtumat Saunarinki - Saunatapahtumat
REFRESH-INTERVAL;VALUE=DURATION:PT1H
X-Robots-Tag:noindex
X-PUBLISHED-TTL:PT1H
BEGIN:VTIMEZONE
TZID:Europe/Helsinki
BEGIN:DAYLIGHT
TZOFFSETFROM:+0200
TZOFFSETTO:+0300
TZNAME:EEST
DTSTART:20250330T010000
END:DAYLIGHT
BEGIN:STANDARD
TZOFFSETFROM:+0300
TZOFFSETTO:+0200
TZNAME:EET
DTSTART:20251026T010000
END:STANDARD
BEGIN:DAYLIGHT
TZOFFSETFROM:+0200
TZOFFSETTO:+0300
TZNAME:EEST
DTSTART:20260329T010000
END:DAYLIGHT
BEGIN:STANDARD
TZOFFSETFROM:+0300
TZOFFSETTO:+0200
TZNAME:EET
DTSTART:20261025T010000
END:STANDARD
BEGIN:DAYLIGHT
TZOFFSETFROM:+0200
TZOFFSETTO:+0300
TZNAME:EEST
DTSTART:20270328T010000
END:DAYLIGHT
BEGIN:STANDARD
TZOFFSETFROM:+0300
TZOFFSETTO:+0200
TZNAME:EET
DTSTART:20271031T010000
END:STANDARD
END:VTIMEZONE
BEGIN:VEVENT
DTSTART;TZID=Europe/Helsinki:20260613T120000
DTEND;TZID=Europe/Helsinki:20260613T190000
DTSTAMP:20260419T062853
CREATED:20251101T105656Z
LAST-MODIFIED:20260210T072118Z
UID:1224-1781352000-1781377200@saunarinki.fi
SUMMARY:Rantaraitin Saunafestarit  Lappeenranta
DESCRIPTION:  \n  \nSauna\, sanominen ja saunakulttuuri Lappeenrannan perinnemaisemassa\, Rakuunanmäen pumppuhuoneella. \nLappeenranta saa oman saunafestarin ensi kesänä. Rakuunamäen Pumppuhuoneen ympäristöön ja Rantaraitin varrelle odotetaan viikkoa ennen juhannusta pariakymmentä saunaa ja niihin useita satoja löylyttelijöitä. \nTapahtuman puuhamies on monesta muustakin tempauksesta tuttu lappeenrantalainen Juhani Sirkiä. Yhtenä sytykkeenä tapahtumaan on ollut kaupungissa tuikahdellut saunamaailma-keskustelu\, joka ei ole toistaiseksi edennyt puheista toteutukseen asti. \nSirkiä kertoo pohtineensa\, voisiko suomalaisten rakastamaa kansanhuvia tuoda silti kaupungissa muuten esille. Ilmoille heitetty festari-idea sai vastakaikua paikallisissa sauna-aktiiveissa Sirkiän sanoin ”suorastaan villiintymiseen” asti. \nNyt mukaan ovat jo lupautuneet muun muassa Pien-Saimaan saunojat ry\, entisen hotelli Polarin saunakerho sekä Rantaraitin varrella kiinteistön omistava Marko Sutinen\, joka avaa omistamiensa saunojen ovet festariväelle. \nJärjestelyporukassa on Sirkiän mukaan saunaharrastajia\, jotka ovat kolunneet Suomessa järjestettäviä vastaavia tapahtumia\, ja heidän oppejaan on tarkoitus hyödyntää myös Lappeenrannassa.
URL:https://saunarinki.fi/tapahtuma/rantaraitin-saunafestarit/
LOCATION:Rakuunamäen Pumppuhuone\, Muinaisrantaraitti 1\, Lappeenranta\, Etelä-Karjala\, 53900\, Finland
END:VEVENT
BEGIN:VEVENT
DTSTART;TZID=Europe/Helsinki:20260613T120000
DTEND;TZID=Europe/Helsinki:20260613T200000
DTSTAMP:20260419T062853
CREATED:20260131T091603Z
LAST-MODIFIED:20260131T091603Z
UID:1264-1781352000-1781380800@saunarinki.fi
SUMMARY:Saunan Vuoksi Festivaali kesä 2026
DESCRIPTION:Toista kertaa järjestettävä Saunan Vuoksi Festivaali Imatran Varpasaaressa 100 vuotis juhla teemalla.\nPaikalle kokoontuu siirrettäviä saunoja\, kuumia kiukaita ja erilaisia\nlöylyelämyksiä ympäri Suomen.\nMisa kiukaat mukana tapahtumassa juhlistamassa 70v päivää. Tapahtumassa Niko Kivelän Stand-up show\nTapahtuma sopii kaikenikäisille ja tarjoaa sekä rauhallisia löylyjä että kesäistä menoa. Saunoja\non kymmeniä\, ruokaa on tarjolla koko päivän ajan.\nSaunan Vuoksi Festivaali on Imatran kesän kohokohtia ja yksi Etelä-Karjalan suurimmista\nsauna- ja tapahtumista.\nLisätiedot ja päivittyvä ohjelma:\nInstagram & Facebook: @saunanvuoksifestivaali\nMikäli haluat tuoda oman saunan esille tai esitellä tuotteita niin laita viestiä\ninfo@vuoksenkalastuspuisto.fi\nMuutokset mahdollisia.
URL:https://saunarinki.fi/tapahtuma/saunan-vuoksi-festivaali-kesa-2026/
LOCATION:Imatra Varpasaari\, Varpasaarenpolku 12\, Imatra\, 55120
ORGANIZER;CN="Wake Park%2C Vuoksen kalastuspuisto ja Saunalautta Imatra":MAILTO:wakeparkimatra@gmail.com
END:VEVENT
END:VCALENDAR