BEGIN:VCALENDAR
VERSION:2.0
PRODID:-//Saunarinki - Saunatapahtumat - ECPv6.15.18//NONSGML v1.0//EN
CALSCALE:GREGORIAN
METHOD:PUBLISH
X-WR-CALNAME:Saunarinki - Saunatapahtumat
X-ORIGINAL-URL:https://saunarinki.fi
X-WR-CALDESC:Tapahtumat Saunarinki - Saunatapahtumat
REFRESH-INTERVAL;VALUE=DURATION:PT1H
X-Robots-Tag:noindex
X-PUBLISHED-TTL:PT1H
BEGIN:VTIMEZONE
TZID:Europe/Helsinki
BEGIN:DAYLIGHT
TZOFFSETFROM:+0200
TZOFFSETTO:+0300
TZNAME:EEST
DTSTART:20250330T010000
END:DAYLIGHT
BEGIN:STANDARD
TZOFFSETFROM:+0300
TZOFFSETTO:+0200
TZNAME:EET
DTSTART:20251026T010000
END:STANDARD
BEGIN:DAYLIGHT
TZOFFSETFROM:+0200
TZOFFSETTO:+0300
TZNAME:EEST
DTSTART:20260329T010000
END:DAYLIGHT
BEGIN:STANDARD
TZOFFSETFROM:+0300
TZOFFSETTO:+0200
TZNAME:EET
DTSTART:20261025T010000
END:STANDARD
BEGIN:DAYLIGHT
TZOFFSETFROM:+0200
TZOFFSETTO:+0300
TZNAME:EEST
DTSTART:20270328T010000
END:DAYLIGHT
BEGIN:STANDARD
TZOFFSETFROM:+0300
TZOFFSETTO:+0200
TZNAME:EET
DTSTART:20271031T010000
END:STANDARD
END:VTIMEZONE
BEGIN:VEVENT
DTSTART;TZID=Europe/Helsinki:20261107T143000
DTEND;TZID=Europe/Helsinki:20261107T183000
DTSTAMP:20260421T012804
CREATED:20260131T114301Z
LAST-MODIFIED:20260131T114301Z
UID:1322-1794061800-1794076200@saunarinki.fi
SUMMARY:7.11. Hämärän höyryt savusaunatapahtuma  Herrankukkaro
DESCRIPTION:Herrankukkaron savusaunatapahtuma on valopilkku rauhoittuvassa saaristossa. Marraskuu on jo pitkällä ja illat hämärtyvät aikaisin. Sauna lämpiää edelleen\, mutta perinteisesti hieman eri syistä kuin kesällä. Nyt kerätään lämpöä ja voimaa talven varalle. \nHerrankukkaron lyhdyt luovat valosillan saariston sydämeen. \nKuljetusta vailla? \nTähän savusaunatapahtumaan pääsee kätevästi Matka-Launokorven kuljetuksella – bussilla suoraan Herrankukkaron löylyihin ja saaristolaispöytään! \nKyyti kulkee mm. Kemiön\, Salon\, Halikon\, Paimion\, Piikkiön\, Kaarinan\, Turun ja Raision kautta. \nTee varaus Launokorven sivuilta ja varaa paikkasi kuljetukseen ja Herrankukkaron 7.11. savusaunatapahtumaan samalla kertaa! Varauksen kuljetuksella voit tehdä tästä >> \n\n\nAikataulu\n\n\n7.11.2026 Lauantai\n \nSaapuminen 14:30 \n14:30 – 14:45 Tervetulotilaisuus: Saunaisännän tervehdys\, lyhyt esittely Suomen parhaana matkailuyrityksenä palkitusta Herrankukkarosta sekä opastus Herrankukkaron saunamaailmaan.\n14:45 – 17:00 Herrankukkaron Maasavusauna ja Kyläsavusauna\, sekä Kaislikkokylpylän lämminvesialtaat vapaasti käytössä.\n16:30 – 18:30 Saaristolainen herkkupöytä – toisenlaista villi- ja luontoruokaa perinteen mukaan.\n18:30 Kotiinlähdön aika.\n \n\n\nHinta:\n\n\n65 €/hlö (sisältää alv:n)\nLapset (3 – 12v.) -50% \nVoit maksaa uinnin ja saunan osuuden (30 €) myös liikuntaedulla. Huomiothan\, että liikuntaedun osuus maksetaan paikan päällä ja muun tapahtuman osuus varauksen yhteydessä. \nMeillä käyvät liikuntaedut ovat: Edenred\, epassi\, Smartum.\n \n\nVaraa paikkasi tästä  \n\n Pakettihintaan sisältyvät shampoot talon puolesta\, sekä kaikki edellä mainitut palvelut. Muistathan ottaa mukaasi pyyhkeen ja uima-asun. \nTapahtumien ja retriittien varausehdot >> \n 
URL:https://saunarinki.fi/tapahtuma/7-11-hamaran-hoyryt-savusaunatapahtuma-herrankukkaro/
LOCATION:Herrankukkaro\, Luotojentie 245\, Naantali\, Varsinais-Suomi\, 21140\, Suomi
ORGANIZER;CN="Herrankukkaro Oy":MAILTO:myyntipalvelu@herrankukkaro.fi
END:VEVENT
BEGIN:VEVENT
DTSTART;TZID=Europe/Helsinki:20261121T143000
DTEND;TZID=Europe/Helsinki:20261121T183000
DTSTAMP:20260421T012804
CREATED:20260131T114626Z
LAST-MODIFIED:20260131T114626Z
UID:1325-1795271400-1795285800@saunarinki.fi
SUMMARY:21.11. Rannikon rauhaa savusaunatapahtuma  Herrankukkaro
DESCRIPTION:Tervetuloa tapahtumaan\, jossa meri rauhoittaa ja kiuas kuiskii. Rannikon rauhaa on Herrankukkaron syksyinen savusaunatapahtuma\, jossa yhdistyvät savusaunat\, lämminvesialtaat ja lämminhenkinen saaristolaisruoka. Tule yksin\, kaksin tai porukalla – meillä kaikille löytyy oma tahti. \nHerrankukkaron lyhdyt luovat valosillan saariston sydämeen. \n\n\nAikataulu\n\n\n21.11. Lauantai\n \nSaapuminen 14:30 \n14:30 – 14:45 Tervetulotilaisuus: Saunaisännän tervehdys\, lyhyt esittely Suomen parhaana matkailuyrityksenä palkitusta Herrankukkarosta sekä opastus Herrankukkaron saunamaailmaan.\n14:45 – 17:00 Herrankukkaron Maasavusauna ja Kyläsavusauna\, sekä Kaislikkokylpylän lämminvesialtaat vapaasti käytössä.\n16:30 – 18:30 Saaristolainen herkkupöytä – toisenlaista villi- ja luontoruokaa perinteen mukaan.\n18:30 Kotiinlähdön aika.\n \n\n\nHinta:\n\n\n65 €/hlö (sisältää alv:n)\nLapset (3 – 12v.) -50% \nVoit maksaa uinnin ja saunan osuuden (30 €) myös liikuntaedulla. Huomiothan\, että liikuntaedun osuus maksetaan paikan päällä ja muun tapahtuman osuus varauksen yhteydessä. \nMeillä käyvät liikuntaedut ovat: Edenred\, epassi\, Smartum.\n \n\nVaraa paikkasi tästä  \n\n Pakettihintaan sisältyvät shampoot talon puolesta\, sekä kaikki edellä mainitut palvelut. Muistathan ottaa mukaasi pyyhkeen ja uima-asun. \nTapahtumien ja retriittien varausehdot >>
URL:https://saunarinki.fi/tapahtuma/21-11-rannikon-rauhaa-savusaunatapahtuma-herrankukkaro/
LOCATION:Herrankukkaro\, Luotojentie 245\, Naantali\, Varsinais-Suomi\, 21140\, Suomi
ORGANIZER;CN="Herrankukkaro Oy":MAILTO:myyntipalvelu@herrankukkaro.fi
END:VEVENT
BEGIN:VEVENT
DTSTART;TZID=Europe/Helsinki:20261205T143000
DTEND;TZID=Europe/Helsinki:20261205T183000
DTSTAMP:20260421T012804
CREATED:20260131T115025Z
LAST-MODIFIED:20260131T115025Z
UID:1328-1796481000-1796495400@saunarinki.fi
SUMMARY:5.12. Toisenlainen joulusauna  Herrankukkaro
DESCRIPTION:Joulusauna on merkittävä osa suomalaista jouluperinnettä. Sauna lämmitetään usein jo aamulla\, jotta saunojat ovat puhtaita päivän juhlia varten. \nNyt sinulla on mahdollisuus ottaa varaslähtö joulurauhaan ja lähteä Herrankukkaron Joulusaunaan \nOn hanget korkeat\, nietokset\, \nvaan joulu\, joulu on meillä! \n\n\nAikataulu\n\n\n5.12.2026 Lauantai \nSaapuminen 14:30 \n14:30 – 14:45 Tervetulotilaisuus: Saunaisännän tervehdys\, lyhyt esittely Suomen parhaana matkailuyrityksenä palkitusta Herrankukkarosta sekä opastus Herrankukkaron saunamaailmaan.\n14:45 – 17:00 Herrankukkaron Maasavusauna ja Kyläsavusauna\, sekä Kaislikkokylpylän lämminvesialtaat vapaasti käytössä.\n16:30 – 18:30 Saaristolainen joulupöytä – toisenlaista villi- ja luontoruokaa perinteen mukaan.\n18:30 Kotiinlähdön aika.\n \n\n\nHinta:\n\n\n65 €/hlö (sisältää alv:n)\nLapset (3 – 12v.) -50% \nVoit maksaa uinnin ja saunan osuuden (30 €) myös liikuntaedulla. Huomiothan\, että liikuntaedun osuus maksetaan paikan päällä ja muun tapahtuman osuus varauksen yhteydessä. \nMeillä käyvät liikuntaedut ovat: Edenred\, epassi\, Smartum.\n \n  \n\nVaraa paikkasi tästä  \n\nPakettihintaan sisältyvät shampoot talon puolesta\, sekä kaikki edellä mainitut palvelut. Muistathan ottaa mukaasi pyyhkeen ja uima-asun. \nTapahtumien ja retriittien varausehdot >>
URL:https://saunarinki.fi/tapahtuma/5-12-toisenlainen-joulusauna-herrankukkaro/
LOCATION:Herrankukkaro\, Luotojentie 245\, Naantali\, Varsinais-Suomi\, 21140\, Suomi
ORGANIZER;CN="Herrankukkaro Oy":MAILTO:myyntipalvelu@herrankukkaro.fi
END:VEVENT
BEGIN:VEVENT
DTSTART;TZID=Europe/Helsinki:20261212T143000
DTEND;TZID=Europe/Helsinki:20261212T183000
DTSTAMP:20260421T012804
CREATED:20260131T115414Z
LAST-MODIFIED:20260131T115414Z
UID:1331-1797085800-1797100200@saunarinki.fi
SUMMARY:12.12. Toisenlainen joulusauna  Herrankukkaro
DESCRIPTION:Joulusauna on merkittävä osa suomalaista jouluperinnettä. Sauna lämmitetään usein jo aamulla\, jotta saunojat ovat puhtaita päivän juhlia varten. \nNyt sinulla on mahdollisuus ottaa varaslähtö joulurauhaan ja lähteä Herrankukkaron Joulusaunaan. \nOn hanget korkeat\, nietokset\, \nvaan joulu\, joulu on meillä! \n\n\nAikataulu\n\n\n12.12.2026 Lauantai\n \nSaapuminen 14:30 \n14:30 – 14:45 Tervetulotilaisuus: Saunaisännän tervehdys\, lyhyt esittely Suomen parhaana matkailuyrityksenä palkitusta Herrankukkarosta sekä opastus Herrankukkaron saunamaailmaan.\n14:45 – 17:00 Herrankukkaron Maasavusauna ja Kyläsavusauna sekä Kaislikkokylpylän lämminvesialtaat vapaasti käytössä.\n16:30 – 18:30 Saaristolainen joulupöytä – toisenlaista villi- ja luontoruokaa perinteen mukaan.\n18:30 Kotiinlähdön aika.\n \nHinta: \n\n\n65 €/hlö (sisältää alv:n)\nLapset (3 – 12v.) -50%\n\nVoit maksaa uinnin ja saunan osuuden (30 €) myös liikuntaedulla. Huomiothan\, että liikuntaedun osuus maksetaan paikan päällä ja muun tapahtuman osuus varauksen yhteydessä. \nMeillä käyvät liikuntaedut ovat: Edenred\, epassi\, Smartum. \n\nVaraa paikkasi tästä  \n\n Pakettihintaan sisältyvät shampoot talon puolesta\, sekä kaikki edellä mainitut palvelut. Muistathan ottaa mukaasi pyyhkeen ja uima-asun. \nTapahtumien ja retriittien varausehdot >> \n\n 
URL:https://saunarinki.fi/tapahtuma/12-12-toisenlainen-joulusauna-herrankukkaro/
LOCATION:Herrankukkaro\, Luotojentie 245\, Naantali\, Varsinais-Suomi\, 21140\, Suomi
ORGANIZER;CN="Herrankukkaro Oy":MAILTO:myyntipalvelu@herrankukkaro.fi
END:VEVENT
BEGIN:VEVENT
DTSTART;TZID=Europe/Helsinki:20261219T143000
DTEND;TZID=Europe/Helsinki:20261219T183000
DTSTAMP:20260421T012804
CREATED:20260131T115739Z
LAST-MODIFIED:20260131T115739Z
UID:1334-1797690600-1797705000@saunarinki.fi
SUMMARY:19.12. Toisenlainen joulusauna  Herrankukkaro
DESCRIPTION:Joulusauna on merkittävä osa suomalaista jouluperinnettä. Sauna lämmitetään usein jo aamulla\, jotta saunojat ovat puhtaita päivän juhlia varten. \nNyt sinulla on mahdollisuus ottaa varaslähtö joulurauhaan ja lähteä Herrankukkaron Joulusaunaan. \nOn hanget korkeat\, nietokset\, \nvaan joulu\, joulu on meillä! \n\n\nAikataulu\n\n\n19.12.2026 Lauantai\n \nSaapuminen 14:30 \n14:30 – 14:45 Tervetulotilaisuus: Saunaisännän tervehdys\, lyhyt esittely Suomen parhaana matkailuyrityksenä palkitusta Herrankukkarosta sekä opastus Herrankukkaron saunamaailmaan.\n14:45 – 17:00 Herrankukkaron Maasavusauna ja Kyläsavusauna sekä Kaislikkokylpylän lämminvesialtaat vapaasti käytössä.\n16:30 – 18:30 Saaristolainen joulupöytä – toisenlaista villi- ja luontoruokaa perinteen mukaan.\n18:30 Kotiinlähdön aika.\n \nHinta: \n\n\n65 €/hlö (sisältää alv:n)\nLapset (3 – 12v.) -50%\n\nVoit maksaa uinnin ja saunan osuuden (30 €) myös liikuntaedulla. Huomiothan\, että liikuntaedun osuus maksetaan paikan päällä ja muun tapahtuman osuus varauksen yhteydessä. \nMeillä käyvät liikuntaedut ovat: Edenred\, epassi\, Smartum. \n\nVaraa paikkasi tästä  \n\nPakettihintaan sisältyvät shampoot talon puolesta\, sekä kaikki edellä mainitut palvelut. Muistathan ottaa mukaasi pyyhkeen ja uima-asun. \nTapahtumien ja retriittien varausehdot >>
URL:https://saunarinki.fi/tapahtuma/19-12-toisenlainen-joulusauna-herrankukkaro/
LOCATION:Herrankukkaro\, Luotojentie 245\, Naantali\, Varsinais-Suomi\, 21140\, Suomi
ORGANIZER;CN="Herrankukkaro Oy":MAILTO:myyntipalvelu@herrankukkaro.fi
END:VEVENT
END:VCALENDAR